BEGIN:VCALENDAR
VERSION:2.0
PRODID:-//Jackson County Suicide Prevention Coalition - ECPv6.15.20//NONSGML v1.0//EN
CALSCALE:GREGORIAN
METHOD:PUBLISH
X-WR-CALNAME:Jackson County Suicide Prevention Coalition
X-ORIGINAL-URL:https://jcsuicideprevention.org
X-WR-CALDESC:Events for Jackson County Suicide Prevention Coalition
REFRESH-INTERVAL;VALUE=DURATION:PT1H
X-Robots-Tag:noindex
X-PUBLISHED-TTL:PT1H
BEGIN:VTIMEZONE
TZID:America/Los_Angeles
BEGIN:DAYLIGHT
TZOFFSETFROM:-0800
TZOFFSETTO:-0700
TZNAME:PDT
DTSTART:20240310T100000
END:DAYLIGHT
BEGIN:STANDARD
TZOFFSETFROM:-0700
TZOFFSETTO:-0800
TZNAME:PST
DTSTART:20241103T090000
END:STANDARD
BEGIN:DAYLIGHT
TZOFFSETFROM:-0800
TZOFFSETTO:-0700
TZNAME:PDT
DTSTART:20250309T100000
END:DAYLIGHT
BEGIN:STANDARD
TZOFFSETFROM:-0700
TZOFFSETTO:-0800
TZNAME:PST
DTSTART:20251102T090000
END:STANDARD
BEGIN:DAYLIGHT
TZOFFSETFROM:-0800
TZOFFSETTO:-0700
TZNAME:PDT
DTSTART:20260308T100000
END:DAYLIGHT
BEGIN:STANDARD
TZOFFSETFROM:-0700
TZOFFSETTO:-0800
TZNAME:PST
DTSTART:20261101T090000
END:STANDARD
END:VTIMEZONE
BEGIN:VEVENT
DTSTART;TZID=America/Los_Angeles:20251204T083000
DTEND;TZID=America/Los_Angeles:20251205T160000
DTSTAMP:20260423T112354
CREATED:20251125T164712Z
LAST-MODIFIED:20251125T165111Z
UID:1625-1764837000-1764950400@jcsuicideprevention.org
SUMMARY:ASIST Workshop December 4th and 5th 2025
DESCRIPTION:For more details or to register\, please visit the event website. \nASIST flyer Dec 4-5\, 2025
URL:https://jcsuicideprevention.org/event/asist-workshop-december-4th-and-5th-2025/
LOCATION:Jackson County Health & Human Services\, 140 South Holly Street\, OR\, 97501\, United States
END:VEVENT
END:VCALENDAR